BEGIN:VCALENDAR
VERSION:2.0
PRODID:-//Commune Pommeuse - ECPv6.5.0//NONSGML v1.0//EN
CALSCALE:GREGORIAN
METHOD:PUBLISH
X-ORIGINAL-URL:https://www.pommeuse.fr
X-WR-CALDESC:évènements pour Commune Pommeuse
REFRESH-INTERVAL;VALUE=DURATION:PT1H
X-Robots-Tag:noindex
X-PUBLISHED-TTL:PT1H
BEGIN:VTIMEZONE
TZID:Europe/Paris
BEGIN:DAYLIGHT
TZOFFSETFROM:+0100
TZOFFSETTO:+0200
TZNAME:CEST
DTSTART:20260329T010000
END:DAYLIGHT
BEGIN:STANDARD
TZOFFSETFROM:+0200
TZOFFSETTO:+0100
TZNAME:CET
DTSTART:20261025T010000
END:STANDARD
END:VTIMEZONE
BEGIN:VEVENT
DTSTART;TZID=Europe/Paris:20260508T103000
DTEND;TZID=Europe/Paris:20260508T140000
DTSTAMP:20260424T081047
CREATED:20260416T091504Z
LAST-MODIFIED:20260416T091838Z
UID:9581-1778236200-1778248800@www.pommeuse.fr
SUMMARY:COMMÉMORATION DU 8 MAI 1945
DESCRIPTION:Commémoration de la victoire du 8 mai 1945
URL:https://www.pommeuse.fr/evenement/9581/
LOCATION:Cimetière de Pommeuse\, avenue du Général Huerne\, POMMEUSE\, 77515\, France
CATEGORIES:Fête et cérémonies
ATTACH;FMTTYPE=application/pdf:https://www.pommeuse.fr/wp-content/uploads/2026/04/a0ae20ad53347826351752d770d1a7723f7df51ab76f45c435c3c492d173.pdf
END:VEVENT
END:VCALENDAR